BEGIN:VCALENDAR
VERSION:2.0
PRODID:-//bring your expertise - ECPv5.2.0//NONSGML v1.0//EN
CALSCALE:GREGORIAN
METHOD:PUBLISH
X-WR-CALNAME:bring your expertise
X-ORIGINAL-URL:https://www.bryx.ro
X-WR-CALDESC:Events for bring your expertise
BEGIN:VTIMEZONE
TZID:Europe/Moscow
BEGIN:STANDARD
TZOFFSETFROM:+0300
TZOFFSETTO:+0300
TZNAME:MSK
DTSTART:20200101T000000
END:STANDARD
END:VTIMEZONE
BEGIN:VEVENT
DTSTART;TZID=Europe/Moscow:20201217T183000
DTEND;TZID=Europe/Moscow:20201217T193000
DTSTAMP:20260421T133240
CREATED:20201209T131401Z
LAST-MODIFIED:20201209T131401Z
UID:18248-1608229800-1608233400@www.bryx.ro
SUMMARY:Webinar "Scrum Guide 2020 - Key Changes"
DESCRIPTION:
URL:https://www.bryx.ro/event/webinar-scrum-guide-2020-key-changes/
CATEGORIES:webinar
ATTACH;FMTTYPE=image/png:https://www.bryx.ro/wp-content/uploads/2020/12/Scrum-Guide-2020-Key-Changes-Daniel-Burghelea.png
END:VEVENT
END:VCALENDAR