BEGIN:VCALENDAR
VERSION:2.0
PRODID:-//bring your expertise - ECPv5.2.0//NONSGML v1.0//EN
CALSCALE:GREGORIAN
METHOD:PUBLISH
X-WR-CALNAME:bring your expertise
X-ORIGINAL-URL:https://www.bryx.ro
X-WR-CALDESC:Events for bring your expertise
BEGIN:VTIMEZONE
TZID:Europe/Moscow
BEGIN:STANDARD
TZOFFSETFROM:+0300
TZOFFSETTO:+0300
TZNAME:MSK
DTSTART:20200101T000000
END:STANDARD
END:VTIMEZONE
BEGIN:VEVENT
DTSTART;TZID=Europe/Moscow:20201126T183000
DTEND;TZID=Europe/Moscow:20201126T193000
DTSTAMP:20260421T151731
CREATED:20201116T103702Z
LAST-MODIFIED:20201116T104727Z
UID:18203-1606415400-1606419000@www.bryx.ro
SUMMARY:Webinar "7 caracteristici esențiale ale Leaderilor secolului 21"
DESCRIPTION:Speaker: Daniela Chiricioaia\, PMP\, PMI-ACP\, DALSM – este in present Project Director la o companie de IT. Are o vasta experienta practica de peste 18 ani in Leadership\, experienta dobandita de-a lungul unei cariere in care a ocupat pe rand roluri precum: Manager IT\, manager de proiect\, program și portofoliu respectiv directorul executiv al unei companii IT.
URL:https://www.bryx.ro/event/webinar-7-caracteristici-esentiale-ale-leaderilor-secolului-21/
CATEGORIES:webinar
ATTACH;FMTTYPE=image/png:https://www.bryx.ro/wp-content/uploads/2020/11/Cover-leadership.png
END:VEVENT
END:VCALENDAR