BEGIN:VCALENDAR
VERSION:2.0
PRODID:-//bring your expertise - ECPv5.2.0//NONSGML v1.0//EN
CALSCALE:GREGORIAN
METHOD:PUBLISH
X-WR-CALNAME:bring your expertise
X-ORIGINAL-URL:https://www.bryx.ro
X-WR-CALDESC:Events for bring your expertise
BEGIN:VTIMEZONE
TZID:Europe/Moscow
BEGIN:STANDARD
TZOFFSETFROM:+0300
TZOFFSETTO:+0300
TZNAME:MSK
DTSTART:20210101T000000
END:STANDARD
END:VTIMEZONE
BEGIN:VEVENT
DTSTART;TZID=Europe/Moscow:20210203T183000
DTEND;TZID=Europe/Moscow:20210203T193000
DTSTAMP:20260421T120304
CREATED:20210111T153701Z
LAST-MODIFIED:20210203T155223Z
UID:18300-1612377000-1612380600@www.bryx.ro
SUMMARY:Schimbarile din 2021 la examenul de PMP
DESCRIPTION:
URL:https://www.bryx.ro/event/schimbarile-din-2021-la-examenul-de-pmp/
CATEGORIES:webinar
ATTACH;FMTTYPE=image/png:https://www.bryx.ro/wp-content/uploads/2021/01/Webinar-Narciss-Popescu_PMP-2021.png
END:VEVENT
END:VCALENDAR