BEGIN:VCALENDAR
VERSION:2.0
PRODID:-//bring your expertise - ECPv5.2.0//NONSGML v1.0//EN
CALSCALE:GREGORIAN
METHOD:PUBLISH
X-WR-CALNAME:bring your expertise
X-ORIGINAL-URL:https://www.bryx.ro
X-WR-CALDESC:Events for bring your expertise
BEGIN:VTIMEZONE
TZID:Europe/Bucharest
BEGIN:DAYLIGHT
TZOFFSETFROM:+0200
TZOFFSETTO:+0300
TZNAME:EEST
DTSTART:20200329T010000
END:DAYLIGHT
BEGIN:STANDARD
TZOFFSETFROM:+0300
TZOFFSETTO:+0200
TZNAME:EET
DTSTART:20201025T010000
END:STANDARD
END:VTIMEZONE
BEGIN:VEVENT
DTSTART;TZID=Europe/Bucharest:20201006T190000
DTEND;TZID=Europe/Bucharest:20201006T200000
DTSTAMP:20260421T185516
CREATED:20201004T205749Z
LAST-MODIFIED:20201006T142557Z
UID:17699-1602010800-1602014400@www.bryx.ro
SUMMARY:Lansare Bryx
DESCRIPTION:
URL:https://www.bryx.ro/event/lansare-bryx/
CATEGORIES:Lansare produs
ATTACH;FMTTYPE=image/jpeg:https://www.bryx.ro/wp-content/uploads/2020/10/Lansare-Bryx.jpg
END:VEVENT
END:VCALENDAR