BEGIN:VCALENDAR
VERSION:2.0
PRODID:-//bring your expertise - ECPv5.2.0//NONSGML v1.0//EN
CALSCALE:GREGORIAN
METHOD:PUBLISH
X-WR-CALNAME:bring your expertise
X-ORIGINAL-URL:http://www.bryx.ro
X-WR-CALDESC:Events for bring your expertise
BEGIN:VTIMEZONE
TZID:Europe/Moscow
BEGIN:STANDARD
TZOFFSETFROM:+0300
TZOFFSETTO:+0300
TZNAME:MSK
DTSTART:20260101T000000
END:STANDARD
END:VTIMEZONE
BEGIN:VEVENT
DTSTART;TZID=Europe/Moscow:20260129T183000
DTEND;TZID=Europe/Moscow:20260129T200000
DTSTAMP:20260422T022644
CREATED:20251231T120150Z
LAST-MODIFIED:20260129T145613Z
UID:19131-1769711400-1769716800@www.bryx.ro
SUMMARY:Schimbarile din PMBOK Guide editia a 8-a
DESCRIPTION:
URL:http://www.bryx.ro/event/schimbarile-din-pmbok-guide-editia-a-8-a/
CATEGORIES:webinar
ATTACH;FMTTYPE=image/png:http://www.bryx.ro/wp-content/uploads/2025/12/Webinar-PMBOK-Guide-8.png
END:VEVENT
END:VCALENDAR